BEGIN:VCALENDAR
METHOD:PUBLISH
VERSION:2.0
PRODID:-//East Cobb Park Concert Series//Calendar//EN

BEGIN:VEVENT
SUMMARY:East Cobb | East Cobb Park Concert Series
DESCRIPTION:East Cobb Park Park Concert Series presents 120 East Band.  Free and open to the public.  For more information\, visit: https://eastcobbpark.org/events 
X-ALT-DESC:<p>East Cobb Park Park Concert Series presents 120 East Band.&nbsp; Free and open to the public.&nbsp; For more information, visit:&nbsp;<a href="https://eastcobbpark.org/events" target="_blank">https://eastcobbpark.org/events</a>&nbsp;</p>
UID:Event9455
DTSTART:20260502T230000Z
DTEND:20260503T020000Z
DTSTAMP:20260423T021609Z
LAST-MODIFIED:20260423T021609Z
END:VEVENT

END:VCALENDAR