BEGIN:VCALENDAR
METHOD:PUBLISH
VERSION:2.0
PRODID:-//Thirsty Thursday//Calendar//EN

BEGIN:VEVENT
SUMMARY:East Cobb | Thirsty Thursday
DESCRIPTION:
X-ALT-DESC:
UID:Event8173
DTSTART:20250320T090000Z
DTEND:20250320T110000Z
DTSTAMP:20241002T200751Z
LAST-MODIFIED:20241002T200751Z
END:VEVENT

END:VCALENDAR