BEGIN:VCALENDAR
METHOD:PUBLISH
VERSION:2.0
PRODID:-//Board Meeting//Calendar//EN

BEGIN:VEVENT
SUMMARY:East Cobb | Board Meeting
DESCRIPTION:Location @ Jonathan Lyons' home. 
X-ALT-DESC:Location @ Jonathan Lyons' home.&nbsp;
UID:Event7995
DTSTART:20240812T223000Z
DTEND:20240813T003000Z
DTSTAMP:20240806T194902Z
LAST-MODIFIED:20240806T194927Z
END:VEVENT

END:VCALENDAR